BEGIN:VCALENDAR
VERSION:2.0
PRODID:-//Kalender-Script//NONSGML Cal V.3//EN
CALSCALE:GREGORIAN
METHOD:PUBLISH
X-WR-CALNAME:Termin_1250
X-WR-TIMEZONE:Europe/Berlin
BEGIN:VTIMEZONE
TZID:Europe/Berlin
X-LIC-LOCATION:Europe/Berlin
BEGIN:DAYLIGHT
TZOFFSETFROM:+0100
TZOFFSETTO:+0200
DTSTART:19700329T020000
RRULE:FREQ=YEARLY;INTERVAL=1;BYDAY=-1SU;BYMONTH=3
TZNAME:CEST
END:DAYLIGHT
BEGIN:STANDARD
TZOFFSETFROM:+0200
TZOFFSETTO:+0100
DTSTART:19701025T030000
RRULE:FREQ=YEARLY;INTERVAL=1;BYDAY=-1SU;BYMONTH=10
TZNAME:CET
END:STANDARD
END:VTIMEZONE
BEGIN:VEVENT
UID:termin_1250@kalender.dav-rottenburg.de
CLASS:PUBLIC
DTSTART;TZID=Europe/Berlin:20230707T080000
DTEND;TZID=Europe/Berlin:20230711
DTSTAMP:20260419T140500Z
SUMMARY:Bernd Widmann: Termin geÃ¤ndert: Fletschhorn und Lagginhorn
DESCRIPTION:Berg- und Hochtouren: Von der WeissmieshÃ¼tte aus wollen wir am Samstag das Lagginhorn (4010m) Ã¼ber den WSW-Grat (WS, 2a) und am Sonntag das Fletschhorn 3985m Ã¼ber den GrÃ¼ebugletscher (WS) besteigen\n\nhttp://kalender.dav-rottenburg.de/kalender.php?kal_Aktion=detail&amp;kal_Intervall=%5B%5D&amp;kal_Nummer=1250
CATEGORIES:Berg- und Hochtouren
URL;VALUE=URI:http://kalender.dav-rottenburg.de/kalender.php?kal_Aktion=detail&amp;kal_Intervall=%5B%5D&amp;kal_Nummer=1250
END:VEVENT
END:VCALENDAR
