BEGIN:VCALENDAR
VERSION:2.0
PRODID:-//Kalender-Script//NONSGML Cal V.3//EN
CALSCALE:GREGORIAN
METHOD:PUBLISH
X-WR-CALNAME:Termin_1318
X-WR-TIMEZONE:Europe/Berlin
BEGIN:VTIMEZONE
TZID:Europe/Berlin
X-LIC-LOCATION:Europe/Berlin
BEGIN:DAYLIGHT
TZOFFSETFROM:+0100
TZOFFSETTO:+0200
DTSTART:19700329T020000
RRULE:FREQ=YEARLY;INTERVAL=1;BYDAY=-1SU;BYMONTH=3
TZNAME:CEST
END:DAYLIGHT
BEGIN:STANDARD
TZOFFSETFROM:+0200
TZOFFSETTO:+0100
DTSTART:19701025T030000
RRULE:FREQ=YEARLY;INTERVAL=1;BYDAY=-1SU;BYMONTH=10
TZNAME:CET
END:STANDARD
END:VTIMEZONE
BEGIN:VEVENT
UID:termin_1318@kalender.dav-rottenburg.de
CLASS:PUBLIC
DTSTART;TZID=Europe/Berlin:20221209T153000
DTEND;TZID=Europe/Berlin:20221209T233000
DTSTAMP:20260420T164500Z
SUMMARY:Kerstin Scherle: Nikolausfeier auf der Weiler Burg
DESCRIPTION:Familie: Es gibt eine Fackelwanderung zur Weiler Burg, wo uns Musik und Leckereien wie Punsch, GlÃ¼hwein und Lebkuchen erwarten. Wir hoffen, dass uns der Nikolaus dieses Jahr wieder besuchen wird.\n\nMitglieder und Nichtmitglieder sind herzlich eingeladen.\n\nhttp://kalender.dav-rottenburg.de/kalender.php?kal_Aktion=detail&amp;kal_Intervall=%5B%5D&amp;kal_Nummer=1318
LOCATION:Parkplatz beim Sportplatz in Weiler
CATEGORIES:Familie
URL;VALUE=URI:http://kalender.dav-rottenburg.de/kalender.php?kal_Aktion=detail&amp;kal_Intervall=%5B%5D&amp;kal_Nummer=1318
END:VEVENT
END:VCALENDAR
