BEGIN:VCALENDAR
VERSION:2.0
PRODID:-//Kalender-Script//NONSGML Cal V.3//EN
CALSCALE:GREGORIAN
METHOD:PUBLISH
X-WR-CALNAME:Termin_1383
X-WR-TIMEZONE:Europe/Berlin
BEGIN:VTIMEZONE
TZID:Europe/Berlin
X-LIC-LOCATION:Europe/Berlin
BEGIN:DAYLIGHT
TZOFFSETFROM:+0100
TZOFFSETTO:+0200
DTSTART:19700329T020000
RRULE:FREQ=YEARLY;INTERVAL=1;BYDAY=-1SU;BYMONTH=3
TZNAME:CEST
END:DAYLIGHT
BEGIN:STANDARD
TZOFFSETFROM:+0200
TZOFFSETTO:+0100
DTSTART:19701025T030000
RRULE:FREQ=YEARLY;INTERVAL=1;BYDAY=-1SU;BYMONTH=10
TZNAME:CET
END:STANDARD
END:VTIMEZONE
BEGIN:VEVENT
UID:termin_1383@kalender.dav-rottenburg.de
CLASS:PUBLIC
DTSTART;TZID=Europe/Berlin:20240609T083000
DTEND;TZID=Europe/Berlin:20240614
DTSTAMP:20260421T123100Z
SUMMARY:Gustav Rechlitz / Wolfgang Dahms: Wandertage im Tannheimer Tal
DESCRIPTION:Herbstzeitlose (Senioren): Wir wollen das Tannheimer Tal nÃ¤her kennen lernen. Dazu zÃ¤hlt sicher eine Wanderung zur Schneetal Alm und zurÃ¼ck Ã¼ber das Gimpel Haus. Unterwegs auf dem Schmugglerpfad und evtl. eine Gipfelbesteigung, aber auch ein Abstecher zum Vilsalpsee\n\nhttp://kalender.dav-rottenburg.de/kalender.php?kal_Aktion=detail&amp;kal_Intervall=%5B%5D&amp;kal_Nummer=1383
LOCATION:P direkt hinter Festhalle Rottenburg;
CATEGORIES:Herbstzeitlose (Senioren)
URL;VALUE=URI:http://kalender.dav-rottenburg.de/kalender.php?kal_Aktion=detail&amp;kal_Intervall=%5B%5D&amp;kal_Nummer=1383
END:VEVENT
END:VCALENDAR
