BEGIN:VCALENDAR
VERSION:2.0
PRODID:-//Kalender-Script//NONSGML Cal V.3//EN
CALSCALE:GREGORIAN
METHOD:PUBLISH
X-WR-CALNAME:Termin_1513
X-WR-TIMEZONE:Europe/Berlin
BEGIN:VTIMEZONE
TZID:Europe/Berlin
X-LIC-LOCATION:Europe/Berlin
BEGIN:DAYLIGHT
TZOFFSETFROM:+0100
TZOFFSETTO:+0200
DTSTART:19700329T020000
RRULE:FREQ=YEARLY;INTERVAL=1;BYDAY=-1SU;BYMONTH=3
TZNAME:CEST
END:DAYLIGHT
BEGIN:STANDARD
TZOFFSETFROM:+0200
TZOFFSETTO:+0100
DTSTART:19701025T030000
RRULE:FREQ=YEARLY;INTERVAL=1;BYDAY=-1SU;BYMONTH=10
TZNAME:CET
END:STANDARD
END:VTIMEZONE
BEGIN:VEVENT
UID:termin_1513@kalender.dav-rottenburg.de
CLASS:PUBLIC
DTSTART;TZID=Europe/Berlin:20241108T160000
DTEND;TZID=Europe/Berlin:20250111
DTSTAMP:20260421T105000Z
SUMMARY:Franka Michiels & Emma Bangerter: Kinder- und Jugendklettern &#8544; 'Die Meisen'
DESCRIPTION:JugendDAV: K lettern kannst du schon oder mÃ¶chtest es gerne lernen?\nL ust auf coole Kids in deinem Alter?\nE rlebe spannende Abenteuer auf gemeinsamen Ausfahrten!\nT rau dich, denn Klettern ist nix fÃ¼r Angsthasen ;)\nT eam - Work ist dein Ding?\nE Itern lassen wir Zuhause, wir sind schon GROSS!\nR iesenspaÃ gemeinsam haben!\nN ix wie anmelden und dabei sein\n\nhttp://kalender.dav-rottenburg.de/kalender.php?kal_Aktion=detail&amp;kal_Intervall=%5B%5D&amp;kal_Nummer=1513
LOCATION:Outdoor Kletteranlage
CATEGORIES:JugendDAV
URL;VALUE=URI:http://kalender.dav-rottenburg.de/kalender.php?kal_Aktion=detail&amp;kal_Intervall=%5B%5D&amp;kal_Nummer=1513
END:VEVENT
END:VCALENDAR
