BEGIN:VCALENDAR
VERSION:2.0
PRODID:-//Kalender-Script//NONSGML Cal V.3//EN
CALSCALE:GREGORIAN
METHOD:PUBLISH
X-WR-CALNAME:Termin_1563
X-WR-TIMEZONE:Europe/Berlin
BEGIN:VTIMEZONE
TZID:Europe/Berlin
X-LIC-LOCATION:Europe/Berlin
BEGIN:DAYLIGHT
TZOFFSETFROM:+0100
TZOFFSETTO:+0200
DTSTART:19700329T020000
RRULE:FREQ=YEARLY;INTERVAL=1;BYDAY=-1SU;BYMONTH=3
TZNAME:CEST
END:DAYLIGHT
BEGIN:STANDARD
TZOFFSETFROM:+0200
TZOFFSETTO:+0100
DTSTART:19701025T030000
RRULE:FREQ=YEARLY;INTERVAL=1;BYDAY=-1SU;BYMONTH=10
TZNAME:CET
END:STANDARD
END:VTIMEZONE
BEGIN:VEVENT
UID:termin_1563@kalender.dav-rottenburg.de
CLASS:PUBLIC
DTSTART;TZID=Europe/Berlin:20260913T060000
DTEND;TZID=Europe/Berlin:20260918
DTSTAMP:20260421T113300Z
SUMMARY:Annemarie Ammann-Saile: Wilde Pfade im Karwendel - Karwendel-HÃ¶henweg
DESCRIPTION:Bergwanderungen: Von Reith bei Seefeld Aufstieg zur NÃ¶rdlinger HÃ¼tte und auf dem Karwendel-HÃ¶henweg von HÃ¼tte zu HÃ¼tte Ã¼ber Solsteinhaus, PfeishÃ¼tte, Hallerangerhaus. Durch das romantische Hinterautal entlang der jungen Isar hinunter nach Scharnitz.\n\nhttp://kalender.dav-rottenburg.de/kalender.php?kal_Aktion=detail&amp;kal_Intervall=%5B%5D&amp;kal_Nummer=1563
LOCATION:Parkplatz Rottenburg, JahnstraÃe, hinter der Festhalle
CATEGORIES:Bergwanderungen
URL;VALUE=URI:http://kalender.dav-rottenburg.de/kalender.php?kal_Aktion=detail&amp;kal_Intervall=%5B%5D&amp;kal_Nummer=1563
END:VEVENT
END:VCALENDAR
