BEGIN:VCALENDAR
VERSION:2.0
PRODID:-//Kalender-Script//NONSGML Cal V.3//EN
CALSCALE:GREGORIAN
METHOD:PUBLISH
X-WR-CALNAME:Termin_1573
X-WR-TIMEZONE:Europe/Berlin
BEGIN:VTIMEZONE
TZID:Europe/Berlin
X-LIC-LOCATION:Europe/Berlin
BEGIN:DAYLIGHT
TZOFFSETFROM:+0100
TZOFFSETTO:+0200
DTSTART:19700329T020000
RRULE:FREQ=YEARLY;INTERVAL=1;BYDAY=-1SU;BYMONTH=3
TZNAME:CEST
END:DAYLIGHT
BEGIN:STANDARD
TZOFFSETFROM:+0200
TZOFFSETTO:+0100
DTSTART:19701025T030000
RRULE:FREQ=YEARLY;INTERVAL=1;BYDAY=-1SU;BYMONTH=10
TZNAME:CET
END:STANDARD
END:VTIMEZONE
BEGIN:VEVENT
UID:termin_1573@kalender.dav-rottenburg.de
CLASS:PUBLIC
DTSTART;TZID=Europe/Berlin:20260730T120000
DTEND;TZID=Europe/Berlin:20260803
DTSTAMP:20260419T183000Z
SUMMARY:Gerhard Lude / Barbara Kiss-NÃ¤gele (Sektion Konstanz-Singen): Biken in Lenzerheide
DESCRIPTION:Mountainbike: Das Bike Kingdom Lenzerheide Arosa, Chur ist die grÃ¶Ãte Mountainbikeregion in GraubÃ¼nden und einer der besten MTB-Spots in der Schweiz. Hier warten endlose Trails auf unser diesjÃ¤hriges Treffen mit den Bikern aus Singen.\n\nhttp://kalender.dav-rottenburg.de/kalender.php?kal_Aktion=detail&amp;kal_Intervall=%5B%5D&amp;kal_Nummer=1573
LOCATION:Kletterwand Rottenburg. Fahrt am Do-Mittag. Uhrzeit wird noch bekannt gegeben.
CATEGORIES:Mountainbike
URL;VALUE=URI:http://kalender.dav-rottenburg.de/kalender.php?kal_Aktion=detail&amp;kal_Intervall=%5B%5D&amp;kal_Nummer=1573
END:VEVENT
END:VCALENDAR
