BEGIN:VCALENDAR
VERSION:2.0
PRODID:-//Kalender-Script//NONSGML Cal V.3//EN
CALSCALE:GREGORIAN
METHOD:PUBLISH
X-WR-CALNAME:Termin_1576
X-WR-TIMEZONE:Europe/Berlin
BEGIN:VTIMEZONE
TZID:Europe/Berlin
X-LIC-LOCATION:Europe/Berlin
BEGIN:DAYLIGHT
TZOFFSETFROM:+0100
TZOFFSETTO:+0200
DTSTART:19700329T020000
RRULE:FREQ=YEARLY;INTERVAL=1;BYDAY=-1SU;BYMONTH=3
TZNAME:CEST
END:DAYLIGHT
BEGIN:STANDARD
TZOFFSETFROM:+0200
TZOFFSETTO:+0100
DTSTART:19701025T030000
RRULE:FREQ=YEARLY;INTERVAL=1;BYDAY=-1SU;BYMONTH=10
TZNAME:CET
END:STANDARD
END:VTIMEZONE
BEGIN:VEVENT
UID:termin_1576@kalender.dav-rottenburg.de
CLASS:PUBLIC
DTSTART;TZID=Europe/Berlin:20260918T060000
DTEND;TZID=Europe/Berlin:20260921
DTSTAMP:20260419T182100Z
SUMMARY:Gerhard Lude / Wolfgang MÃ¼ller-Hirsch (Sektion Stuttgart): Trailwochenende in den Vogesen
DESCRIPTION:Mountainbike: Region VallÃ©e de Munster / VallÃ©e de Kaysersberg oder rund um den Mont Saint-Odile - wild und schÃ¶n. Wir fÃ¼hren diese Tour in Kooperation mit der Sektion Stuttgart durch.\n\nhttp://kalender.dav-rottenburg.de/kalender.php?kal_Aktion=detail&amp;kal_Intervall=%5B%5D&amp;kal_Nummer=1576
LOCATION:Kletterwand Rottenburg. Uhrzeit wird noch bekannt gegeben.
CATEGORIES:Mountainbike
URL;VALUE=URI:http://kalender.dav-rottenburg.de/kalender.php?kal_Aktion=detail&amp;kal_Intervall=%5B%5D&amp;kal_Nummer=1576
END:VEVENT
END:VCALENDAR
