BEGIN:VCALENDAR
VERSION:2.0
PRODID:-//Kalender-Script//NONSGML Cal V.3//EN
CALSCALE:GREGORIAN
METHOD:PUBLISH
X-WR-CALNAME:Termin_1577
X-WR-TIMEZONE:Europe/Berlin
BEGIN:VTIMEZONE
TZID:Europe/Berlin
X-LIC-LOCATION:Europe/Berlin
BEGIN:DAYLIGHT
TZOFFSETFROM:+0100
TZOFFSETTO:+0200
DTSTART:19700329T020000
RRULE:FREQ=YEARLY;INTERVAL=1;BYDAY=-1SU;BYMONTH=3
TZNAME:CEST
END:DAYLIGHT
BEGIN:STANDARD
TZOFFSETFROM:+0200
TZOFFSETTO:+0100
DTSTART:19701025T030000
RRULE:FREQ=YEARLY;INTERVAL=1;BYDAY=-1SU;BYMONTH=10
TZNAME:CET
END:STANDARD
END:VTIMEZONE
BEGIN:VEVENT
UID:termin_1577@kalender.dav-rottenburg.de
CLASS:PUBLIC
DTSTART;TZID=Europe/Berlin:20260814T060000
DTEND;TZID=Europe/Berlin:20260817
DTSTAMP:20260419T185100Z
SUMMARY:Sebastian Mohr: BergBus 2026 RÃ¤tikon: Alpinklettern am LÃ¼nersee
DESCRIPTION:Berg- und Hochtouren: Rund um den LÃ¼nersee gibt es viele MÃ¶glichkeiten zum Alpinklettern. Vom Klettergarten am HÃ¼ttenkopf bis zur Nordwand der Kirchlispitzen. Welche Touren wir dann machen hÃ¤ngt vom Wetter und den Teilnehmern ab.\n\nhttp://kalender.dav-rottenburg.de/kalender.php?kal_Aktion=detail&amp;kal_Intervall=%5B%5D&amp;kal_Nummer=1577
LOCATION:Hinter der Festhalle in Rottenburg
CATEGORIES:Berg- und Hochtouren
URL;VALUE=URI:http://kalender.dav-rottenburg.de/kalender.php?kal_Aktion=detail&amp;kal_Intervall=%5B%5D&amp;kal_Nummer=1577
END:VEVENT
END:VCALENDAR
