BEGIN:VCALENDAR
VERSION:2.0
PRODID:-//Kalender-Script//NONSGML Cal V.3//EN
CALSCALE:GREGORIAN
METHOD:PUBLISH
X-WR-CALNAME:Termin_1599
X-WR-TIMEZONE:Europe/Berlin
BEGIN:VTIMEZONE
TZID:Europe/Berlin
X-LIC-LOCATION:Europe/Berlin
BEGIN:DAYLIGHT
TZOFFSETFROM:+0100
TZOFFSETTO:+0200
DTSTART:19700329T020000
RRULE:FREQ=YEARLY;INTERVAL=1;BYDAY=-1SU;BYMONTH=3
TZNAME:CEST
END:DAYLIGHT
BEGIN:STANDARD
TZOFFSETFROM:+0200
TZOFFSETTO:+0100
DTSTART:19701025T030000
RRULE:FREQ=YEARLY;INTERVAL=1;BYDAY=-1SU;BYMONTH=10
TZNAME:CET
END:STANDARD
END:VTIMEZONE
BEGIN:VEVENT
UID:termin_1599@kalender.dav-rottenburg.de
CLASS:PUBLIC
DTSTART;TZID=Europe/Berlin:20260311T110000
DTEND;TZID=Europe/Berlin:20260311T190000
DTSTAMP:20260420T150300Z
SUMMARY:Marianne Heberle: Drei-TÃ¤ler-Wanderung von Glatt zum Priorberg
DESCRIPTION:Herbstzeitlose (Senioren): Ãber Streuobstwiesen und Schafweiden nach Neckarhausen und Dettingen. Auf die AnhÃ¶he von Priorberg mit schÃ¶ner Josefskapelle und anschlieÃender EinkehrmÃ¶glichkeit.\n\nhttp://kalender.dav-rottenburg.de/kalender.php?kal_Aktion=detail&amp;kal_Intervall=%5B%5D&amp;kal_Nummer=1599
LOCATION:Rottenburg a.N., hinter der Festhalle - fÃ¼r Fahrgemeinschaften
CATEGORIES:Herbstzeitlose (Senioren)
URL;VALUE=URI:http://kalender.dav-rottenburg.de/kalender.php?kal_Aktion=detail&amp;kal_Intervall=%5B%5D&amp;kal_Nummer=1599
END:VEVENT
END:VCALENDAR
