BEGIN:VCALENDAR
VERSION:2.0
PRODID:-//Kalender-Script//NONSGML Cal V.3//EN
CALSCALE:GREGORIAN
METHOD:PUBLISH
X-WR-CALNAME:Termin_1607
X-WR-TIMEZONE:Europe/Berlin
BEGIN:VTIMEZONE
TZID:Europe/Berlin
X-LIC-LOCATION:Europe/Berlin
BEGIN:DAYLIGHT
TZOFFSETFROM:+0100
TZOFFSETTO:+0200
DTSTART:19700329T020000
RRULE:FREQ=YEARLY;INTERVAL=1;BYDAY=-1SU;BYMONTH=3
TZNAME:CEST
END:DAYLIGHT
BEGIN:STANDARD
TZOFFSETFROM:+0200
TZOFFSETTO:+0100
DTSTART:19701025T030000
RRULE:FREQ=YEARLY;INTERVAL=1;BYDAY=-1SU;BYMONTH=10
TZNAME:CET
END:STANDARD
END:VTIMEZONE
BEGIN:VEVENT
UID:termin_1607@kalender.dav-rottenburg.de
CLASS:PUBLIC
DTSTART;TZID=Europe/Berlin:20260930T083000
DTEND;TZID=Europe/Berlin:20260930T163000
DTSTAMP:20260419T143200Z
SUMMARY:Marianne Heberle: Satteleisteig Baiersbronn - GenieÃerpfad
DESCRIPTION:Herbstzeitlose (Senioren): Abwechslungsreiche Wanderung auf weichen Waldpfaden rund um den Rinkenberg mit vielen Aussichtspunkten ins Tonbachtal, auf Baiersbronn und auf Mitteltal. Ein HÃ¶hepunkt ist die Einkehr in einer renommierten WanderhÃ¼tte in der Region.\n\nhttp://kalender.dav-rottenburg.de/kalender.php?kal_Aktion=detail&amp;kal_Intervall=%5B%5D&amp;kal_Nummer=1607
LOCATION:Bahnhof Ergenzingen zur Fahrt mit Ã¶ffentlichen Verkehrsmitteln
CATEGORIES:Herbstzeitlose (Senioren)
URL;VALUE=URI:http://kalender.dav-rottenburg.de/kalender.php?kal_Aktion=detail&amp;kal_Intervall=%5B%5D&amp;kal_Nummer=1607
END:VEVENT
END:VCALENDAR
