BEGIN:VCALENDAR
VERSION:2.0
PRODID:-//Kalender-Script//NONSGML Cal V.3//EN
CALSCALE:GREGORIAN
METHOD:PUBLISH
X-WR-CALNAME:Termin_1622
X-WR-TIMEZONE:Europe/Berlin
BEGIN:VTIMEZONE
TZID:Europe/Berlin
X-LIC-LOCATION:Europe/Berlin
BEGIN:DAYLIGHT
TZOFFSETFROM:+0100
TZOFFSETTO:+0200
DTSTART:19700329T020000
RRULE:FREQ=YEARLY;INTERVAL=1;BYDAY=-1SU;BYMONTH=3
TZNAME:CEST
END:DAYLIGHT
BEGIN:STANDARD
TZOFFSETFROM:+0200
TZOFFSETTO:+0100
DTSTART:19701025T030000
RRULE:FREQ=YEARLY;INTERVAL=1;BYDAY=-1SU;BYMONTH=10
TZNAME:CET
END:STANDARD
END:VTIMEZONE
BEGIN:VEVENT
UID:termin_1622@kalender.dav-rottenburg.de
CLASS:PUBLIC
DTSTART;TZID=Europe/Berlin:20260508T080000
DTEND;TZID=Europe/Berlin:20260511
DTSTAMP:20260420T110000Z
SUMMARY:Maurice Jordan: Kletterschein Outdoor (Basic) fÃ¼r Jugendliche und Erwachsene
DESCRIPTION:Ausbildung: Ziel des Outdoor-Kletterscheins ist es, Indoor-Kletternde hinsichtlich Ãkologie und Sicherheit zu sensibilisieren und praktisch auszubilden. Die Lerninhalte sind auf bohrhaken-gesicherte EinseillÃ¤ngenrouten im Klettergarten ausgelegt.\n\nhttp://kalender.dav-rottenburg.de/kalender.php?kal_Aktion=detail&amp;kal_Intervall=%5B%5D&amp;kal_Nummer=1622
LOCATION:Nach RÃ¼cksprache
CATEGORIES:Ausbildung
URL;VALUE=URI:http://kalender.dav-rottenburg.de/kalender.php?kal_Aktion=detail&amp;kal_Intervall=%5B%5D&amp;kal_Nummer=1622
END:VEVENT
END:VCALENDAR
